BEGIN:VCALENDAR
VERSION:2.0
PRODID:-//hacksw/handcal//NONSGML v1.0//EN
BEGIN:VEVENT
DTSTART:20231118T153000
DTEND:20231118T190000
LOCATION:Amphithéâtre Mérieux \n46, Allée d'Italie \n69007 LYON
ORGANIZER;CN=Laura Hand:MAILTO:
SUMMARY:Cérémonie de remise du diplôme - promotion  2022
DESCRIPTION:La cérémonie de remise du diplôme pour la promotion 2022 aura lieu ce samedi 18 novembre à l'amphithéâtre Mérieux à partir de 15h30. Après un parcours de 4 ans au sein de l’ENS de Lyon, les étudiants ...
URL:https://alumni.ens-lyon.fr/fr/event/ceremonie-de-remise-du-diplome-promotion-2022/2023/11/18/108
BEGIN:VALARM
TRIGGER:-P0DT1H0M0S
ACTION:DISPLAY
END:VALARM
END:VEVENT
END:VCALENDAR