BEGIN:VCALENDAR
VERSION:2.0
PRODID:-//hacksw/handcal//NONSGML v1.0//EN
BEGIN:VEVENT
DTSTART:20231207T170000
DTEND:20231207T190000
LOCATION:
ORGANIZER;CN=Danielle ROGER:MAILTO:danielle.rogervz@gmail.com
SUMMARY:Conférence exceptionnelle de Maurice Godelier
DESCRIPTION:Dans le cadre du séminaire "Problèmes de la modernité" (IHRIM-UMR 5317), Delphine Antoine-Mahut (1992 L FC) et Samuel Lézé recevront Maurice Godelier, anthropologueAncien élève de l’ENS de Saint-Cloud...
URL:https://alumni.ens-lyon.fr/fr/event/conference-exceptionnelle-de-maurice-godelier/2023/12/07/109
BEGIN:VALARM
TRIGGER:-P0DT1H0M0S
ACTION:DISPLAY
END:VALARM
END:VEVENT
END:VCALENDAR