BEGIN:VCALENDAR
VERSION:2.0
PRODID:-//hacksw/handcal//NONSGML v1.0//EN
BEGIN:VEVENT
DTSTART:20240611T093000
DTEND:20240613T183000
LOCATION:ENS de Lyon  les 11 et 12 juin et ENS Paris le 13 juin
ORGANIZER;CN=Danielle ROGER:MAILTO:danielle.rogervz@gmail.com
SUMMARY:Colloque inter-ENS «L’égalité des chances, les diversités, l’ouverture» 11-13 juin
DESCRIPTION:« L’égalité des chances, les diversités, l’ouverture », ce colloque organisé par les quatre ENS avec les Associations d’élèves et anciens élèves, marque la volonté de relever en interne ces défis et...
URL:https://alumni.ens-lyon.fr/fr/event/colloque-inter-ens-l-egalite-des-chances-les-diversites-l-ouverture-11-13-juin/2024/06/11/113
BEGIN:VALARM
TRIGGER:-P0DT1H0M0S
ACTION:DISPLAY
END:VALARM
END:VEVENT
END:VCALENDAR