BEGIN:VCALENDAR
VERSION:2.0
PRODID:-//hacksw/handcal//NONSGML v1.0//EN
BEGIN:VEVENT
DTSTART:20260602T190000
DTEND:20260611T190000
LOCATION:ENSATT \nStudios Lerrant
ORGANIZER;CN=Viviane Bergue:MAILTO:viviane.bergue@ens-lyon.fr
SUMMARY:Monde Grand, d’après « l’Œuvre-vie d’Antonio Gramsci » de Romain Descendre et Jean-Claude Zancarini
DESCRIPTION:D’après l’Œuvre-vie d’Antonio Gramsci de Romain Descendre et Jean-Claude Zancarini, Monde grand est une traversée de la vie d’Antonio Gramsci, de ses années de formation à Turin à son incarcération...
URL:https://alumni.ens-lyon.fr/fr/event/monde-grand-d-apres-l-oeuvre-vie-d-antonio-gramsci-de-romain-descendre-et-jean-claude-zancarini/2026/06/02/140
BEGIN:VALARM
TRIGGER:-P0DT1H0M0S
ACTION:DISPLAY
END:VALARM
END:VEVENT
END:VCALENDAR