BEGIN:VCALENDAR
VERSION:2.0
PRODID:-//hacksw/handcal//NONSGML v1.0//EN
BEGIN:VEVENT
DTSTART:20190130T193000
DTEND:20190130T213000
LOCATION:tinyclues \n51, Rue Étienne Marcel \n75001 PARIS
ORGANIZER;CN=Danielle ROGER:MAILTO:danielle.rogervz@gmail.com
SUMMARY:Afterwork MultiENS "Spécial Start’ups et VC"
DESCRIPTION:Jean-Gérard Pailloncy (S LY 91) et Anne Puechberty (S SC 86) proposent en ce début d’année un afterwork Spécial Start’ups et VC chez tinyclues. Cet événement est ouvert aux anciens des quatre ENS et...
URL:https://alumni.ens-lyon.fr/fr/event/afterwork-multiens-special-start-ups-et-vc/2019/01/30/20
BEGIN:VALARM
TRIGGER:-P0DT1H0M0S
ACTION:DISPLAY
END:VALARM
END:VEVENT
END:VCALENDAR