BEGIN:VCALENDAR
VERSION:2.0
PRODID:-//hacksw/handcal//NONSGML v1.0//EN
BEGIN:VEVENT
DTSTART:20190704T200000
DTEND:20190704T223000
LOCATION:Universign \n7, Rue du Faubourg Poissonnière \n75009 PARIS
ORGANIZER;CN=Danielle ROGER:MAILTO:danielle.rogervz@gmail.com
SUMMARY:Afterwork MultiENS
DESCRIPTION:Jean-Gérard Pailloncy (S LY 91) et Anne Puechberty (S SC 86) proposent un nouvel afterwork \nchez Universign 7 rue du Faubourg Poissonnière - 75009 Paris, le 4 juillet de 19h30 à 22h.\nNous y...
URL:https://alumni.ens-lyon.fr/fr/event/afterwork-multiens/2019/07/04/42
BEGIN:VALARM
TRIGGER:-P0DT1H0M0S
ACTION:DISPLAY
END:VALARM
END:VEVENT
END:VCALENDAR