BEGIN:VCALENDAR
VERSION:2.0
PRODID:-//hacksw/handcal//NONSGML v1.0//EN
BEGIN:VEVENT
DTSTART:20220602T180000
DTEND:20220602T193000
LOCATION:Amphi Descartes \n15 parvis René-Descartes \n69342 LYON Cedex 07
ORGANIZER;CN=Danielle ROGER:MAILTO:danielle.rogervz@gmail.com
SUMMARY:Rencontre le jeudi 2 juin  avec François Hurard, Inspecteur général des affaires culturelles
DESCRIPTION:L'Association des élèves et anciens élèves des ENS de Lyon, Fontenay-aux-Roses et Saint-Cloud, en partenariat avec le Département des Lettres et arts de l'ENS de Lyon, vous invite à une  rencontre...
URL:https://alumni.ens-lyon.fr/fr/event/rencontre-le-jeudi-2-juin-avec-francois-hurard-inspecteur-general-des-affaires-culturelles/2022/06/02/97
BEGIN:VALARM
TRIGGER:-P0DT1H0M0S
ACTION:DISPLAY
END:VALARM
END:VEVENT
END:VCALENDAR