BEGIN:VCALENDAR
VERSION:2.0
PRODID:-//hacksw/handcal//NONSGML v1.0//EN
BEGIN:VEVENT
DTSTART:20220919T120000
DTEND:20220919T200000
LOCATION:ENS de Lyon (précisions à venir)
ORGANIZER;CN=Marion CLÉGUER:MAILTO:
SUMMARY:Rencontre avec Dennis Meadows à l'ENS de Lyon
DESCRIPTION:Dennis Meadows recevra les insignes de Docteur Honoris Causa le 19 septembre 2022 à l'ENS de Lyon. La cérémonie sera suivie d'une conférence et table ronde, animée par Jean Jouzel, sur les enjeux de...
URL:https://alumni.ens-lyon.fr/fr/event/rencontre-avec-dennis-meadows-a-l-ens-de-lyon/2022/09/19/98
BEGIN:VALARM
TRIGGER:-P0DT1H0M0S
ACTION:DISPLAY
END:VALARM
END:VEVENT
END:VCALENDAR