BEGIN:VCALENDAR
VERSION:2.0
PRODID:-//hacksw/handcal//NONSGML v1.0//EN
BEGIN:VEVENT
DTSTART:20220827T090000
DTEND:20220829T140000
LOCATION:ENS de Lyon  \n15 parvis René Descartes \n69007 Lyon
ORGANIZER;CN=Marion CLÉGUER:MAILTO:
SUMMARY:Journées d'été des savoirs engagés et reliés
DESCRIPTION:Des journées, accueillies à l'ENS de Lyon, organisées autour d’exemples concrets de productions de connaissances en lien avec ces enjeux socio-écologiques majeurs et de réflexions-rencontres avec de...
URL:https://alumni.ens-lyon.fr/fr/event/journees-d-ete-des-savoirs-engages-et-relies/2022/08/27/99
BEGIN:VALARM
TRIGGER:-P0DT1H0M0S
ACTION:DISPLAY
END:VALARM
END:VEVENT
END:VCALENDAR